BEGIN:VCALENDAR
VERSION:2.0
PRODID:-//Squarespace Inc/Squarespace 6//v6//EN
BEGIN:VEVENT
UID:5c579d578165f540676e50f3@squarespace.com
DTSTAMP:20190204T020556Z
DTSTART:20190504T000000Z
DTEND:20190506T050000Z
SUMMARY:Spoon Carving Workshop at the Maleny Wood Expo
END:VEVENT
END:VCALENDAR
