BEGIN:VCALENDAR
VERSION:2.0
PRODID:-//Squarespace Inc/Squarespace 6//v6//EN
BEGIN:VEVENT
UID:58e9f34215d5dbf58c98cc1c@squarespace.com
DTSTAMP:20190204T020302Z
DTSTART:20180505T000000Z
DTEND:20180507T050000Z
SUMMARY:Spooncarving Workshop at the Maleny Wood Expo
END:VEVENT
END:VCALENDAR
