BEGIN:VCALENDAR
VERSION:2.0
PRODID:-//Squarespace Inc/Squarespace 6//v6//EN
BEGIN:VEVENT
UID:5b6b88dc575d1fbb0fe4bec8@squarespace.com
DTSTAMP:20180809T002127Z
DTSTART:20181027T040000Z
DTEND:20181027T070000Z
SUMMARY:Spoon Carving Workshops at the Maker's Escape North Brisbane
END:VEVENT
END:VCALENDAR
