BEGIN:VCALENDAR
VERSION:2.0
PRODID:-//Squarespace Inc/Squarespace 6//v6//EN
BEGIN:VEVENT
UID:5b6b876ac2241be7b902468a@squarespace.com
DTSTAMP:20180809T002037Z
DTSTART:20181026T230000Z
DTEND:20181027T020000Z
SUMMARY:Spoon Carving Workshops at the Maker's Escape North Brisbane
END:VEVENT
END:VCALENDAR
