BEGIN:VCALENDAR
VERSION:2.0
PRODID:-//Squarespace Inc/Squarespace 6//v6//EN
BEGIN:VEVENT
UID:5a56c85071c10be627861d85@squarespace.com
DTSTAMP:20180111T021809Z
DTSTART:20180517T230000Z
DTEND:20180520T070000Z
SUMMARY: Spooncarving Workshops at the Maker's Escape Montville
END:VEVENT
END:VCALENDAR
