BEGIN:VCALENDAR
VERSION:2.0
PRODID:-//Squarespace Inc/Squarespace 6//v6//EN
BEGIN:VEVENT
UID:58e9f3eeb3db2b2c30bf67d6@squarespace.com
DTSTAMP:20180111T015812Z
DTSTART:20180525T230000Z
DTEND:20180527T070000Z
SUMMARY:Full Weekend Spooncarving Workshop at the Cooroora Institute 3x Tea
 chers\, 3x The Fun
END:VEVENT
END:VCALENDAR
