BEGIN:VCALENDAR
VERSION:2.0
PRODID:-//Squarespace Inc/Squarespace 6//v6//EN
BEGIN:VEVENT
UID:5a56bfdd53450ad102504ffd@squarespace.com
DTSTAMP:20180111T014438Z
DTSTART:20180228T080000Z
DTEND:20180228T110000Z
SUMMARY:Session 2 of a 2 session Spooncarving Workshop at Raw Art West End\
 , Brisbane 
END:VEVENT
END:VCALENDAR
