BEGIN:VCALENDAR
VERSION:2.0
PRODID:-//Squarespace Inc/Squarespace 6//v6//EN
BEGIN:VEVENT
UID:58e9ef3c29687f9340fc00ac@squarespace.com
DTSTAMP:20180111T014233Z
DTSTART:20180221T080000Z
DTEND:20180221T110000Z
SUMMARY: Session 1 of a 2 session Spooncarving Workshop at Raw Art West End
 \, Brisbane 
END:VEVENT
END:VCALENDAR
