BEGIN:VCALENDAR
VERSION:2.0
PRODID:-//Squarespace Inc/Squarespace 6//v6//EN
BEGIN:VEVENT
UID:5c579e6ee4966b0b81e3c916@squarespace.com
DTSTAMP:20190204T021410Z
DTSTART:20190329T000000Z
DTEND:20190331T170000Z
SUMMARY:Teaching at Turnfest\, Seaworld Nara Resort\, Gold Coast
END:VEVENT
END:VCALENDAR
