BEGIN:VCALENDAR
VERSION:2.0
PRODID:-//Squarespace Inc/Squarespace 6//v6//EN
BEGIN:VEVENT
UID:5a56cba4c8302558efeb9e78@squarespace.com
DTSTAMP:20180111T031421Z
DTSTART:20180310T020000Z
DTEND:20180310T040000Z
SUMMARY:demonstrating at Turnfest\, Seaworld Nara Resort Gold Coast
END:VEVENT
END:VCALENDAR
