BEGIN:VCALENDAR
VERSION:2.0
PRODID:-//Squarespace Inc/Squarespace 6//v6//EN
BEGIN:VEVENT
UID:5b6b86e1898583e64811183c@squarespace.com
DTSTAMP:20180809T001236Z
DTSTART:20181021T003000Z
DTEND:20181021T043000Z
SUMMARY:Wood Dust: The Australian International Timber and Woodworking Fest
 ival
END:VEVENT
END:VCALENDAR
