BEGIN:VCALENDAR
VERSION:2.0
PRODID:-//Squarespace Inc/Squarespace 6//v6//EN
BEGIN:VEVENT
UID:5b6b863321c67cdcf00e84ff@squarespace.com
DTSTAMP:20180809T001201Z
DTSTART:20181020T003000Z
DTEND:20181020T043000Z
SUMMARY:Wood Dust: The Australian International Timber and Woodworking Fest
 ival
END:VEVENT
END:VCALENDAR
