BEGIN:VCALENDAR
VERSION:2.0
PRODID:-//Squarespace Inc/Squarespace 6//v6//EN
BEGIN:VEVENT
UID:5b6b85f74ae237dfc5f589af@squarespace.com
DTSTAMP:20180809T000833Z
DTSTART:20181014T003000Z
DTEND:20181014T043000Z
SUMMARY:Spoon Carving Classes at Illawarra Festival of Wood
END:VEVENT
END:VCALENDAR
