BEGIN:VCALENDAR
VERSION:2.0
PRODID:-//Squarespace Inc/Squarespace 6//v6//EN
BEGIN:VEVENT
UID:5b6b85c7c2241be7b9023626@squarespace.com
DTSTAMP:20180809T000747Z
DTSTART:20181013T003000Z
DTEND:20181013T043000Z
SUMMARY:Spoon Carving Classes at Illawarra Festival of Wood
END:VEVENT
END:VCALENDAR
