BEGIN:VCALENDAR
VERSION:2.0
PRODID:-//Squarespace Inc/Squarespace 6//v6//EN
BEGIN:VEVENT
UID:5b6b8521562fa79824907003@squarespace.com
DTSTAMP:20180809T000719Z
DTSTART:20181012T003000Z
DTEND:20181012T043000Z
SUMMARY:Spoon Carving Classes at Illawarra Festival of Wood
END:VEVENT
END:VCALENDAR
