BEGIN:VCALENDAR
VERSION:2.0
PRODID:-//Squarespace Inc/Squarespace 6//v6//EN
BEGIN:VEVENT
UID:5b8cae31cd8366d4a01cbd42@squarespace.com
DTSTAMP:20180903T034918Z
DTSTART:20181110T230000Z
DTEND:20181111T030000Z
SUMMARY:Spooncarving Workshop at The Craft Parlour\, Gold Coast
END:VEVENT
END:VCALENDAR
