BEGIN:VCALENDAR
VERSION:2.0
PRODID:-//Squarespace Inc/Squarespace 6//v6//EN
BEGIN:VEVENT
UID:5a56bcf853450ad1024fdaf3@squarespace.com
DTSTAMP:20180111T012710Z
DTSTART:20180223T220000Z
DTEND:20180224T020000Z
SUMMARY: Spooncarving Workshop at Vieille Branche\, Brisbane
END:VEVENT
END:VCALENDAR
