BEGIN:VCALENDAR
VERSION:2.0
PRODID:-//Squarespace Inc/Squarespace 6//v6//EN
BEGIN:VEVENT
UID:5a56cdfe085229f556bf0333@squarespace.com
DTSTAMP:20180111T023831Z
DTSTART:20180428T140000Z
DTEND:20180428T180000Z
SUMMARY:Milking Stool Making. 2 Sessions at Raw Art West End Brisbane
END:VEVENT
END:VCALENDAR
