BEGIN:VCALENDAR
VERSION:2.0
PRODID:-//Squarespace Inc/Squarespace 6//v6//EN
BEGIN:VEVENT
UID:5a56ccd3f9619a96fd743b3a@squarespace.com
DTSTAMP:20180111T023843Z
DTSTART:20180427T140000Z
DTEND:20180427T180000Z
SUMMARY:Milking Stool Making. 2 Sessions at Raw Art West End Brisbane
END:VEVENT
END:VCALENDAR
