BEGIN:VCALENDAR
VERSION:2.0
PRODID:-//Squarespace Inc/Squarespace 6//v6//EN
BEGIN:VEVENT
UID:5a56bccf24a694f00f3c9b8f@squarespace.com
DTSTAMP:20180111T012729Z
DTSTART:20180216T220000Z
DTEND:20180217T020000Z
SUMMARY: Spooncarving Workshop at Vieille Branche\, Brisbane
END:VEVENT
END:VCALENDAR
