BEGIN:VCALENDAR
VERSION:2.0
PRODID:-//Squarespace Inc/Squarespace 6//v6//EN
BEGIN:VEVENT
UID:5a56bc89e4966b047be41be9@squarespace.com
DTSTAMP:20180111T012402Z
DTSTART:20180209T220000Z
DTEND:20180210T020000Z
SUMMARY:Spooncarving Workshop at Vieille Branche\, Brisbane
END:VEVENT
END:VCALENDAR
