BEGIN:VCALENDAR
VERSION:2.0
PRODID:-//Squarespace Inc/Squarespace 6//v6//EN
BEGIN:VEVENT
UID:5a56cb04652dea23bbc2234c@squarespace.com
DTSTAMP:20180111T022700Z
DTSTART:20180309T220000Z
DTEND:20180310T020000Z
SUMMARY:Bush Stool making Workshop at Vieille Branche\, Brisbane
END:VEVENT
END:VCALENDAR
