BEGIN:VCALENDAR
VERSION:2.0
PRODID:-//Squarespace Inc/Squarespace 6//v6//EN
BEGIN:VEVENT
UID:5a56ca7753450ad102524b81@squarespace.com
DTSTAMP:20180111T022426Z
DTSTART:20180302T220000Z
DTEND:20180303T020000Z
SUMMARY: Spooncarving Workshop at Vieille Branche\, Brisbane
END:VEVENT
END:VCALENDAR
