BEGIN:VCALENDAR
VERSION:2.0
PRODID:-//Squarespace Inc/Squarespace 6//v6//EN
BEGIN:VEVENT
UID:5b6b8b4c70a6ad2bbcd75bab@squarespace.com
DTSTAMP:20180809T003243Z
DTSTART:20181124T030000Z
DTEND:20181124T053000Z
SUMMARY:Bird Whittling Workshop at Artisan Gallery\, Brisbane
END:VEVENT
END:VCALENDAR
