BEGIN:VCALENDAR
VERSION:2.0
PRODID:-//Squarespace Inc/Squarespace 6//v6//EN
BEGIN:VEVENT
UID:5b6b8ab34ae237dfc5f5bffe@squarespace.com
DTSTAMP:20180809T003007Z
DTSTART:20181124T000000Z
DTEND:20181124T023000Z
SUMMARY:Bird Whittling Workshop at Artisan Gallery\, Brisbane
END:VEVENT
END:VCALENDAR
