BEGIN:VCALENDAR
VERSION:2.0
PRODID:-//Squarespace Inc/Squarespace 6//v6//EN
BEGIN:VEVENT
UID:5c81f9149140b70d4ecb5c1f@squarespace.com
DTSTAMP:20190308T051258Z
DTSTART:20190309T043000Z
DTEND:20190309T073000Z
SUMMARY:Whittling Spoons Workshop at Avid Kitchen &amp\; Garden\, West End 
 - SOLD OUT
END:VEVENT
END:VCALENDAR
