BEGIN:VCALENDAR
VERSION:2.0
PRODID:-//Squarespace Inc/Squarespace 6//v6//EN
BEGIN:VEVENT
UID:5c81f79f9140b70d4ecb4f4f@squarespace.com
DTSTAMP:20190308T051311Z
DTSTART:20190406T010000Z
DTEND:20190406T050000Z
SUMMARY:Spooncarving Workshop at Artisan Gallery\, Brisbane - SOLD OUT
END:VEVENT
END:VCALENDAR
