BEGIN:VCALENDAR
VERSION:2.0
PRODID:-//Squarespace Inc/Squarespace 6//v6//EN
BEGIN:VEVENT
UID:5a56c7e3f9619a96fd735597@squarespace.com
DTSTAMP:20190308T050326Z
DTSTART:20180728T010000Z
DTEND:20180728T050000Z
SUMMARY: Spooncarving Workshop at Artisan gallery\, Brisbane
END:VEVENT
END:VCALENDAR
