BEGIN:VCALENDAR
VERSION:2.0
PRODID:-//Squarespace Inc/Squarespace 6//v6//EN
BEGIN:VEVENT
UID:5a56c7b6c8302558efeadd8e@squarespace.com
DTSTAMP:20180111T021137Z
DTSTART:20180623T010000Z
DTEND:20180623T050000Z
SUMMARY:Spooncarving Workshop at Artisan gallery\, Brisbane
END:VEVENT
END:VCALENDAR
