BEGIN:VCALENDAR
VERSION:2.0
PRODID:-//Squarespace Inc/Squarespace 6//v6//EN
BEGIN:VEVENT
UID:5a56c65df9619a96fd730a80@squarespace.com
DTSTAMP:20180111T021044Z
DTSTART:20180512T010000Z
DTEND:20180512T050000Z
SUMMARY: Spooncarving Workshop at Artisan gallery\, Brisbane
END:VEVENT
END:VCALENDAR
