BEGIN:VCALENDAR
VERSION:2.0
PRODID:-//Squarespace Inc/Squarespace 6//v6//EN
BEGIN:VEVENT
UID:5a56bb4c24a694f00f3c5e07@squarespace.com
DTSTAMP:20180111T022405Z
DTSTART:20180316T220000Z
DTEND:20180317T020000Z
SUMMARY:Spooncarving Workshop at Vieille Branche\, Brisbane
END:VEVENT
END:VCALENDAR
