BEGIN:VCALENDAR
VERSION:2.0
PRODID:-//Squarespace Inc/Squarespace 6//v6//EN
BEGIN:VEVENT
UID:5af160e8575d1f8324d133ab@squarespace.com
DTSTAMP:20180508T083451Z
DTSTART:20180601T223000Z
DTEND:20180602T023000Z
SUMMARY:Spooncarving Workshop at Vieille Branche\, Brisbane
END:VEVENT
END:VCALENDAR
