BEGIN:VCALENDAR
VERSION:2.0
PRODID:-//Squarespace Inc/Squarespace 6//v6//EN
BEGIN:VEVENT
UID:5af1613570a6ad99188b2221@squarespace.com
DTSTAMP:20180508T083645Z
DTSTART:20180615T223000Z
DTEND:20180616T023000Z
SUMMARY:Spooncarving Workshop at Vieille Branche\, Brisbane
END:VEVENT
END:VCALENDAR
