BEGIN:VCALENDAR
VERSION:2.0
PRODID:-//Squarespace Inc/Squarespace 6//v6//EN
BEGIN:VEVENT
UID:5af1605e0e2e727f4124f3f6@squarespace.com
DTSTAMP:20180508T083210Z
DTSTART:20180720T223000Z
DTEND:20180721T023000Z
SUMMARY:Spooncarving Workshop at Vieille Branche\, Brisbane
END:VEVENT
END:VCALENDAR
