BEGIN:VCALENDAR
VERSION:2.0
PRODID:-//Squarespace Inc/Squarespace 6//v6//EN
BEGIN:VEVENT
UID:5af160a5352f538d7432ba78@squarespace.com
DTSTAMP:20180808T235943Z
DTSTART:20180817T223000Z
DTEND:20180818T023000Z
SUMMARY:Spoon Carving Workshop at Vieille Branche\, Brisbane
END:VEVENT
END:VCALENDAR
