BEGIN:VCALENDAR
VERSION:2.0
PRODID:-//Squarespace Inc/Squarespace 6//v6//EN
BEGIN:VEVENT
UID:5cdb7c7c9140b790b0be2f0f@squarespace.com
DTSTAMP:20190515T024235Z
DTSTART:20190602T000000Z
DTEND:20190602T050000Z
SUMMARY:Small Bowl Carving Workshop at the Cowper Gallery
END:VEVENT
END:VCALENDAR
