BEGIN:VCALENDAR
VERSION:2.0
PRODID:-//Squarespace Inc/Squarespace 6//v6//EN
BEGIN:VEVENT
UID:5cdb7c1f08522976cb08cbcf@squarespace.com
DTSTAMP:20190515T024152Z
DTSTART:20190601T000000Z
DTEND:20190601T050000Z
SUMMARY:Spoon Carving Workshop at the Cowper Gallery
END:VEVENT
END:VCALENDAR
