BEGIN:VCALENDAR
VERSION:2.0
PRODID:-//Squarespace Inc/Squarespace 6//v6//EN
BEGIN:VEVENT
UID:5c57a02df4e1fcbafcd53a8c@squarespace.com
DTSTAMP:20190204T021551Z
DTSTART:20190420T000000Z
DTEND:20190421T060000Z
SUMMARY:Spoon Carving Workshops at the Cowper Gallery
END:VEVENT
END:VCALENDAR
