BEGIN:VCALENDAR
VERSION:2.0
PRODID:-//Squarespace Inc/Squarespace 6//v6//EN
BEGIN:VEVENT
UID:5b6b81370ebbe8eae0fcf82a@squarespace.com
DTSTAMP:20190204T021508Z
DTSTART:20180825T000000Z
DTEND:20180825T060000Z
SUMMARY:Spoon Carving Workshop at the Cowper Gallery
END:VEVENT
END:VCALENDAR
