BEGIN:VCALENDAR
VERSION:2.0
PRODID:-//Squarespace Inc/Squarespace 6//v6//EN
BEGIN:VEVENT
UID:5b6b82be88251b721768bf1f@squarespace.com
DTSTAMP:20180809T000001Z
DTSTART:20180826T000000Z
DTEND:20180826T060000Z
SUMMARY:Spoon Carving Workshop at the Cowper Gallery
END:VEVENT
END:VCALENDAR
