BEGIN:VCALENDAR
VERSION:2.0
PRODID:-//Squarespace Inc/Squarespace 6//v6//EN
BEGIN:VEVENT
UID:5af1601370a6ad99188b0708@squarespace.com
DTSTAMP:20180808T235931Z
DTSTART:20180803T223000Z
DTEND:20180804T023000Z
SUMMARY:Spoon Carving Workshop at Vieille Branche\, Brisbane
END:VEVENT
END:VCALENDAR
