BEGIN:VCALENDAR
VERSION:2.0
PRODID:-//Squarespace Inc/Squarespace 6//v6//EN
BEGIN:VEVENT
UID:5c498a710ebbe8f531dcdb2e@squarespace.com
DTSTAMP:20190204T000302Z
DTSTART:20190222T230000Z
DTEND:20190223T030000Z
SUMMARY:Spoon Carving Workshop at the Cottage Studio - SOLD OUT
END:VEVENT
END:VCALENDAR
