BEGIN:VCALENDAR
VERSION:2.0
PRODID:-//Squarespace Inc/Squarespace 6//v6//EN
BEGIN:VEVENT
UID:5cdb7d9853450ae8460ba63c@squarespace.com
DTSTAMP:20190606T074756Z
DTSTART:20190706T000000Z
DTEND:20190706T030000Z
SUMMARY:Spoon Whittling Short Workshop at Biome Collective\, Paddington (SO
 LD OUT)
END:VEVENT
END:VCALENDAR
