BEGIN:VCALENDAR
VERSION:2.0
PRODID:-//Squarespace Inc/Squarespace 6//v6//EN
BEGIN:VEVENT
UID:5cdb7fd9d670540001e5fa67@squarespace.com
DTSTAMP:20190515T025737Z
DTSTART:20190809T230000Z
DTEND:20190810T070000Z
SUMMARY:Spoon Carving Masterclass at Wood Dust Australia 2019
END:VEVENT
END:VCALENDAR
