BEGIN:VCALENDAR
VERSION:2.0
PRODID:-//Squarespace Inc/Squarespace 6//v6//EN
BEGIN:VEVENT
UID:5cdb7ee84e17b630b288ca01@squarespace.com
DTSTAMP:20190515T025545Z
DTSTART:20190810T230000Z
DTEND:20190811T070000Z
SUMMARY:Wood Finishing Masterclass at Wood Dust Australia 2019
END:VEVENT
END:VCALENDAR
