BEGIN:VCALENDAR
VERSION:2.0
PRODID:-//Squarespace Inc/Squarespace 6//v6//EN
BEGIN:VEVENT
UID:5cdb702be4966b9daaf732e5@squarespace.com
DTSTAMP:20190606T074951Z
DTSTART:20190824T003000Z
DTEND:20190824T053000Z
SUMMARY:Carve a Wooden Bowl Workshop at Artisan Gallery (SOLD OUT)
END:VEVENT
END:VCALENDAR
