BEGIN:VCALENDAR
VERSION:2.0
PRODID:-//Squarespace Inc/Squarespace 6//v6//EN
BEGIN:VEVENT
UID:5e169096aabb901b185774a3@squarespace.com
DTSTAMP:20200109T023350Z
DTSTART:20200314T010000Z
DTEND:20200314T050000Z
SUMMARY:Spoon Carving Workshop at Artisan Gallery
END:VEVENT
END:VCALENDAR
