BEGIN:VCALENDAR
VERSION:2.0
PRODID:-//Squarespace Inc/Squarespace 6//v6//EN
BEGIN:VEVENT
UID:5cdb70251905f4599771a872@squarespace.com
DTSTAMP:20190606T074905Z
DTSTART:20190817T010000Z
DTEND:20190817T050000Z
SUMMARY:Spoon Carving Workshop at Artisan Gallery (SOLD OUT)
END:VEVENT
END:VCALENDAR
