BEGIN:VCALENDAR
VERSION:2.0
PRODID:-//Squarespace Inc/Squarespace 6//v6//EN
BEGIN:VEVENT
UID:5cdb701ea4222fa469e70f37@squarespace.com
DTSTAMP:20190606T074645Z
DTSTART:20190608T000000Z
DTEND:20190608T023000Z
SUMMARY:Whittle a Bird Workshop at Artisan Gallery (SOLD OUT)
END:VEVENT
END:VCALENDAR
