BEGIN:VCALENDAR
VERSION:2.0
PRODID:-//Squarespace Inc/Squarespace 6//v6//EN
BEGIN:VEVENT
UID:5cdb6e6d9140b790b0bdbda1@squarespace.com
DTSTAMP:20190515T014820Z
DTSTART:20190525T010000Z
DTEND:20190525T050000Z
SUMMARY:Spoon Carving Workshop at Artisan Gallery (SOLD OUT)
END:VEVENT
END:VCALENDAR
